BEGIN:VCALENDAR
VERSION:2.0
PRODID:icalendar-ruby
CALSCALE:GREGORIAN
METHOD:PUBLISH
BEGIN:VEVENT
DTSTAMP:20260424T230122Z
UID:8-1527770@westmorelanducc.org
DTSTART:20260426T150000Z
DTEND:20260426T160000Z
CLASS:PUBLIC
CREATED:20260423T104146
DESCRIPTION:Join us after worship for coffee and fellowship.
LAST-MODIFIED:20260423T104146
LOCATION:Westmoreland UCC
SUMMARY:Social Hour (Social Hall)
URL;VALUE=URI:https://www.westmorelanducc.org/events/social-hour-social-hal
 l/2026-04-26
END:VEVENT
END:VCALENDAR
