BEGIN:VCALENDAR
VERSION:2.0
PRODID:icalendar-ruby
CALSCALE:GREGORIAN
METHOD:PUBLISH
BEGIN:VEVENT
DTSTAMP:20260422T222802Z
UID:489-1418327@westmorelanducc.org
DTSTART:20260509T220000Z
DTEND:20260510T020000Z
CLASS:PUBLIC
CREATED:20260331T125427
DESCRIPTION:
LAST-MODIFIED:20260331T125427
LOCATION:Social Hall
SUMMARY:Scouts Movie Night (Social Hall)
URL;VALUE=URI:https://www.westmorelanducc.org/events/scouts-movie-night-soc
 ial-hall/2026-05-09
END:VEVENT
END:VCALENDAR
