BEGIN:VCALENDAR
VERSION:2.0
PRODID:icalendar-ruby
CALSCALE:GREGORIAN
METHOD:PUBLISH
BEGIN:VEVENT
DTSTAMP:20260424T012340Z
UID:31-1530935@westmorelanducc.org
DTSTART:20260716T230000Z
DTEND:20260717T010000Z
CLASS:PUBLIC
CREATED:20260423T200837
DESCRIPTION:
LAST-MODIFIED:20260423T200837
LOCATION:Choir Room
SUMMARY:Chancel Choir (Choir Room)
URL;VALUE=URI:https://www.westmorelanducc.org/events/chancel-choir-choir-ro
 om--31/2026-07-16
END:VEVENT
END:VCALENDAR
