BEGIN:VCALENDAR
VERSION:2.0
PRODID:icalendar-ruby
CALSCALE:GREGORIAN
METHOD:PUBLISH
BEGIN:VEVENT
DTSTAMP:20260423T233854Z
UID:31-1530089@westmorelanducc.org
DTSTART:20260709T230000Z
DTEND:20260710T010000Z
CLASS:PUBLIC
CREATED:20260423T171522
DESCRIPTION:
LAST-MODIFIED:20260423T171522
LOCATION:Choir Room
SUMMARY:Chancel Choir (Choir Room)
URL;VALUE=URI:https://www.westmorelanducc.org/events/chancel-choir-choir-ro
 om--31/2026-07-09
END:VEVENT
END:VCALENDAR
