BEGIN:VCALENDAR
VERSION:2.0
PRODID:icalendar-ruby
CALSCALE:GREGORIAN
METHOD:PUBLISH
BEGIN:VEVENT
DTSTAMP:20260423T150517Z
UID:31-1527417@westmorelanducc.org
DTSTART:20260528T230000Z
DTEND:20260529T010000Z
CLASS:PUBLIC
CREATED:20260423T083124
DESCRIPTION:
LAST-MODIFIED:20260423T083124
LOCATION:Choir Room
SUMMARY:Chancel Choir (Choir Room)
URL;VALUE=URI:https://www.westmorelanducc.org/events/chancel-choir-choir-ro
 om--31/2026-05-28
END:VEVENT
END:VCALENDAR
