BEGIN:VCALENDAR
VERSION:2.0
PRODID:icalendar-ruby
CALSCALE:GREGORIAN
METHOD:PUBLISH
BEGIN:VEVENT
DTSTAMP:20260423T102044Z
UID:31-1526569@westmorelanducc.org
DTSTART:20260507T230000Z
DTEND:20260508T010000Z
CLASS:PUBLIC
CREATED:20260422T230109
DESCRIPTION:
LAST-MODIFIED:20260422T230109
LOCATION:Choir Room
SUMMARY:Chancel Choir (Choir Room)
URL;VALUE=URI:https://www.westmorelanducc.org/events/chancel-choir-choir-ro
 om--31/2026-05-07
END:VEVENT
END:VCALENDAR
