BEGIN:VCALENDAR
VERSION:2.0
PRODID:icalendar-ruby
CALSCALE:GREGORIAN
METHOD:PUBLISH
BEGIN:VEVENT
DTSTAMP:20260421T150241Z
UID:486-1418259@westmorelanducc.org
DTSTART:20260808T130000Z
DTEND:20260808T160000Z
CLASS:PUBLIC
CREATED:20260331T111157
DESCRIPTION:
LAST-MODIFIED:20260331T111157
LOCATION:Parlor
SUMMARY:Ballet Petite  (Parlor)
URL;VALUE=URI:https://www.westmorelanducc.org/events/ballet-petite-parlor--
 486/2026-08-08
END:VEVENT
END:VCALENDAR
