BEGIN:VCALENDAR
VERSION:2.0
PRODID:icalendar-ruby
CALSCALE:GREGORIAN
METHOD:PUBLISH
BEGIN:VEVENT
DTSTAMP:20260424T143739Z
UID:12-1532267@westmorelanducc.org
DTSTART:20261102T170000Z
DTEND:20261102T180000Z
CLASS:PUBLIC
CREATED:20260424T083114
DESCRIPTION:
LAST-MODIFIED:20260424T083114
LOCATION:Mabry Room
SUMMARY:Al-Anon Meeting     (Mabry)
URL;VALUE=URI:https://www.westmorelanducc.org/events/al-anon-meeting-mabry-
 -12/2026-11-02
END:VEVENT
END:VCALENDAR
