BEGIN:VCALENDAR
VERSION:2.0
PRODID:icalendar-ruby
CALSCALE:GREGORIAN
METHOD:PUBLISH
BEGIN:VEVENT
DTSTAMP:20260424T125410Z
UID:12-1532266@westmorelanducc.org
DTSTART:20261026T160000Z
DTEND:20261026T170000Z
CLASS:PUBLIC
CREATED:20260424T083114
DESCRIPTION:
LAST-MODIFIED:20260424T083114
LOCATION:Mabry Room
SUMMARY:Al-Anon Meeting     (Mabry)
URL;VALUE=URI:https://www.westmorelanducc.org/events/al-anon-meeting-mabry-
 -12/2026-10-26
END:VEVENT
END:VCALENDAR
