BEGIN:VCALENDAR
VERSION:2.0
PRODID:icalendar-ruby
CALSCALE:GREGORIAN
METHOD:PUBLISH
BEGIN:VEVENT
DTSTAMP:20260424T093939Z
UID:12-1531418@westmorelanducc.org
DTSTART:20261012T160000Z
DTEND:20261012T170000Z
CLASS:PUBLIC
CREATED:20260423T230306
DESCRIPTION:
LAST-MODIFIED:20260423T230306
LOCATION:Mabry Room
SUMMARY:Al-Anon Meeting     (Mabry)
URL;VALUE=URI:https://www.westmorelanducc.org/events/al-anon-meeting-mabry-
 -12/2026-10-12
END:VEVENT
END:VCALENDAR
